Workbook

Sheet Start here
B2: Debt Snowball Planner
B3: A free spreadsheet that shows the month you'll be debt-free.
B5: How to use it
B6: 1. Open the 'Your debts' tab and type your debts in. Name, balance, interest rate, minimum payment.
B7: 2. Put the total you can pay each month toward ALL debt in the yellow box. Minimums included.
B8: 3. Pick Snowball (smallest balance first) or Avalanche (highest rate first). Your
B9: debt-free date appears right beside the dropdown -- flip it and watch it move.
B10: 4. Open 'Your plan'. Your debt-free date is at the top.
B12: Snowball or avalanche?
B13: Avalanche costs less interest. Snowball closes an account sooner, and a closed account is
B14: what makes people keep going. The difference in total interest is usually small. Try both:
B15: change the dropdown and watch the date beside it move.
... B29: The debt-free date and the full plan are free in it. snowballerapp.com

Sheet Your debts
B2: Your debts
B3: Type over the example rows. Leave the rest blank.
B5: Debt name | C5: Balance owed | D5: Rate (APR %) | E5: Minimum payment | F5: Order | G5: What 'Order' means
B6: Store card | C6: 450 | D6: 26.99 | E6: 25 | F6: =IF(OR(B6="",C6<=0),"",IF($C$20="Snowball",SUMPRODUCT(($B$6:$B$15<>"")*($C$6:$C$15>0)*(($C$6:$C$15<C6)+(($C$6:$C$15=C6)*($D$6:$D$15>D6))+(($C$6:$C$15=C6)*($D$6:$D$15=D6)*(ROW($C$6:$C$15)<6))))+1,SUMPRODUCT(($B$6:$B$15<>"")*($C$6:$C$15>0)*(($D$6:$D$15>D6)+(($D$6:$D$15=D6)*($C$6:$C$15<C6))+(($D$6:$D$15=D6)*($C$6:$C$15=C6)*(ROW($C$6:$C$15)<6))))+1)) | G6: 1 is paid off first. This is set once,
B7: Visa | C7: 3200 | D7: 22.99 | E7: 85 | F7: =IF(OR(B7="",C7<=0),"",IF($C$20="Snowball",SUMPRODUCT(($B$6:$B$15<>"")*($C$6:$C$15>0)*(($C$6:$C$15<C7)+(($C$6:$C$15=C7)*($D$6:$D$15>D7))+(($C$6:$C$15=C7)*($D$6:$D$15=D7)*(ROW($C$6:$C$15)<7))))+1,SUMPRODUCT(($B$6:$B$15<>"")*($C$6:$C$15>0)*(($D$6:$D$15>D7)+(($D$6:$D$15=D7)*($C$6:$C$15<C7))+(($D$6:$D$15=D7)*($C$6:$C$15=C7)*(ROW($C$6:$C$15)<7))))+1)) | G7: from the balances above, and stays
B8: Car loan | C8: 9800 | D8: 6.49 | E8: 310 | F8: =IF(OR(B8="",C8<=0),"",IF($C$20="Snowball",SUMPRODUCT(($B$6:$B$15<>"")*($C$6:$C$15>0)*(($C$6:$C$15<C8)+(($C$6:$C$15=C8)*($D$6:$D$15>D8))+(($C$6:$C$15=C8)*($D$6:$D$15=D8)*(ROW($C$6:$C$15)<8))))+1,SUMPRODUCT(($B$6:$B$15<>"")*($C$6:$C$15>0)*(($D$6:$D$15>D8)+(($D$6:$D$15=D8)*($C$6:$C$15<C8))+(($D$6:$D$15=D8)*($C$6:$C$15=C8)*(ROW($C$6:$C$15)<8))))+1)) | G8: fixed as you pay them down.
B9: Student loan | C9: 14500 | D9: 5.8 | E9: 180 | F9: =IF(OR(B9="",C9<=0),"",IF($C$20="Snowball",SUMPRODUCT(($B$6:$B$15<>"")*($C$6:$C$15>0)*(($C$6:$C$15<C9)+(($C$6:$C$15=C9)*($D$6:$D$15>D9))+(($C$6:$C$15=C9)*($D$6:$D$15=D9)*(ROW($C$6:$C$15)<9))))+1,SUMPRODUCT(($B$6:$B$15<>"")*($C$6:$C$15>0)*(($D$6:$D$15>D9)+(($D$6:$D$15=D9)*($C$6:$C$15<C9))+(($D$6:$D$15=D9)*($C$6:$C$15=C9)*(ROW($C$6:$C$15)<9))))+1))
F10: =IF(OR(B10="",C10<=0),"",IF($C$20="Snowball",SUMPRODUCT(($B$6:$B$15<>"")*($C$6:$C$15>0)*(($C$6:$C$15<C10)+(($C$6:$C$15=C10)*($D$6:$D$15>D10))+(($C$6:$C$15=C10)*($D$6:$D$15=D10)*(ROW($C$6:$C$15)<10))))+1,SUMPRODUCT(($B$6:$B$15<>"")*($C$6:$C$15>0)*(($D$6:$D$15>D10)+(($D$6:$D$15=D10)*($C$6:$C$15<C10))+(($D$6:$D$15=D10)*($C$6:$C$15=C10)*(ROW($C$6:$C$15)<10))))+1))
F11: =IF(OR(B11="",C11<=0),"",IF($C$20="Snowball",SUMPRODUCT(($B$6:$B$15<>"")*($C$6:$C$15>0)*(($C$6:$C$15<C11)+(($C$6:$C$15=C11)*($D$6:$D$15>D11))+(($C$6:$C$15=C11)*($D$6:$D$15=D11)*(ROW($C$6:$C$15)<11))))+1,SUMPRODUCT(($B$6:$B$15<>"")*($C$6:$C$15>0)*(($D$6:$D$15>D11)+(($D$6:$D$15=D11)*($C$6:$C$15<C11))+(($D$6:$D$15=D11)*($C$6:$C$15=C11)*(ROW($C$6:$C$15)<11))))+1))
F12: =IF(OR(B12="",C12<=0),"",IF($C$20="Snowball",SUMPRODUCT(($B$6:$B$15<>"")*($C$6:$C$15>0)*(($C$6:$C$15<C12)+(($C$6:$C$15=C12)*($D$6:$D$15>D12))+(($C$6:$C$15=C12)*($D$6:$D$15=D12)*(ROW($C$6:$C$15)<12))))+1,SUMPRODUCT(($B$6:$B$15<>"")*($C$6:$C$15>0)*(($D$6:$D$15>D12)+(($D$6:$D$15=D12)*($C$6:$C$15<C12))+(($D$6:$D$15=D12)*($C$6:$C$15=C12)*(ROW($C$6:$C$15)<12))))+1))
F13: =IF(OR(B13="",C13<=0),"",IF($C$20="Snowball",SUMPRODUCT(($B$6:$B$15<>"")*($C$6:$C$15>0)*(($C$6:$C$15<C13)+(($C$6:$C$15=C13)*($D$6:$D$15>D13))+(($C$6:$C$15=C13)*($D$6:$D$15=D13)*(ROW($C$6:$C$15)<13))))+1,SUMPRODUCT(($B$6:$B$15<>"")*($C$6:$C$15>0)*(($D$6:$D$15>D13)+(($D$6:$D$15=D13)*($C$6:$C$15<C13))+(($D$6:$D$15=D13)*($C$6:$C$15=C13)*(ROW($C$6:$C$15)<13))))+1))
F14: =IF(OR(B14="",C14<=0),"",IF($C$20="Snowball",SUMPRODUCT(($B$6:$B$15<>"")*($C$6:$C$15>0)*(($C$6:$C$15<C14)+(($C$6:$C$15=C14)*($D$6:$D$15>D14))+(($C$6:$C$15=C14)*($D$6:$D$15=D14)*(ROW($C$6:$C$15)<14))))+1,SUMPRODUCT(($B$6:$B$15<>"")*($C$6:$C$15>0)*(($D$6:$D$15>D14)+(($D$6:$D$15=D14)*($C$6:$C$15<C14))+(($D$6:$D$15=D14)*($C$6:$C$15=C14)*(ROW($C$6:$C$15)<14))))+1))
F15: =IF(OR(B15="",C15<=0),"",IF($C$20="Snowball",SUMPRODUCT(($B$6:$B$15<>"")*($C$6:$C$15>0)*(($C$6:$C$15<C15)+(($C$6:$C$15=C15)*($D$6:$D$15>D15))+(($C$6:$C$15=C15)*($D$6:$D$15=D15)*(ROW($C$6:$C$15)<15))))+1,SUMPRODUCT(($B$6:$B$15<>"")*($C$6:$C$15>0)*(($D$6:$D$15>D15)+(($D$6:$D$15=D15)*($C$6:$C$15<C15))+(($D$6:$D$15=D15)*($C$6:$C$15=C15)*(ROW($C$6:$C$15)<15))))+1))
B17: Totals | C17: =SUM(C6:C15) | E17: =SUM(E6:E15) | F17: ← your minimums
B19: What you can pay each month | C19: 600 | D19: including minimums
B20: Strategy | C20: Snowball | E20: You'll be debt-free in
E21: =IF(ISNUMBER('Your plan'!C4),TEXT('Your plan'!C4,"mmmm yyyy"),'Your plan'!C4)
B22: =IF($C$19<$E$17,"Your budget is below your minimums. Raise it to at least the number above.","")

Sheet Your plan
B2: Your plan
B4: You'll be debt-free in | C4: =IFERROR(IF('Your debts'!$C$19<'Your debts'!$E$17,"—",INDEX($B$16:$B$315,MATCH(TRUE,INDEX($E$16:$E$315<=0,0),0))),"—")
B5: That is | C5: =IFERROR(IF('Your debts'!$C$19<'Your debts'!$E$17,"raise your budget",MATCH(TRUE,INDEX($E$16:$E$315<=0,0),0)&" months from now"),"more than 25 years")
B6: Total interest you'll pay | C6: =IFERROR(SUM($C$16:INDEX($C$16:$C$315,MATCH(TRUE,INDEX($E$16:$E$315<=0,0),0))),"")
B7: Total you'll pay | C7: =IFERROR(SUM($D$16:INDEX($D$16:$D$315,MATCH(TRUE,INDEX($E$16:$E$315<=0,0),0))),"")
B9: Paying only minimums instead | C9: =IFERROR(MAX(IFERROR(CEILING(NPER('Your debts'!$D$6/1200,-'Your debts'!$E$6,'Your debts'!$C$6),1),0),IFERROR(CEILING(NPER('Your debts'!$D$7/1200,-'Your debts'!$E$7,'Your debts'!$C$7),1),0),IFERROR(CEILING(NPER('Your debts'!$D$8/1200,-'Your debts'!$E$8,'Your debts'!$C$8),1),0),IFERROR(CEILING(NPER('Your debts'!$D$9/1200,-'Your debts'!$E$9,'Your debts'!$C$9),1),0),IFERROR(CEILING(NPER('Your debts'!$D$10/1200,-'Your debts'!$E$10,'Your debts'!$C$10),1),0),IFERROR(CEILING(NPER('Your debts'!$D$11/1200,-'Your debts'!$E$11,'Your debts'!$C$11),1),0),IFERROR(CEILING(NPER('Your debts'!$D$12/1200,-'Your debts'!$E$12,'Your debts'!$C$12),1),0),IFERROR(CEILING(NPER('Your debts'!$D$13/1200,-'Your debts'!$E$13,'Your debts'!$C$13),1),0),IFERROR(CEILING(NPER('Your debts'!$D$14/1200,-'Your debts'!$E$14,'Your debts'!$C$14),1),0),IFERROR(CEILING(NPER('Your debts'!$D$15/1200,-'Your debts'!$E$15,'Your debts'!$C$15),1),0))&" months", "") | D9: =IFERROR("and $"&TEXT(IFERROR('Your debts'!$E$6*CEILING(NPER('Your debts'!$D$6/1200,-'Your debts'!$E$6,'Your debts'!$C$6),1)-'Your debts'!$C$6,0)+IFERROR('Your debts'!$E$7*CEILING(NPER('Your debts'!$D$7/1200,-'Your debts'!$E$7,'Your debts'!$C$7),1)-'Your debts'!$C$7,0)+IFERROR('Your debts'!$E$8*CEILING(NPER('Your debts'!$D$8/1200,-'Your debts'!$E$8,'Your debts'!$C$8),1)-'Your debts'!$C$8,0)+IFERROR('Your debts'!$E$9*CEILING(NPER('Your debts'!$D$9/1200,-'Your debts'!$E$9,'Your debts'!$C$9),1)-'Your debts'!$C$9,0)+IFERROR('Your debts'!$E$10*CEILING(NPER('Your debts'!$D$10/1200,-'Your debts'!$E$10,'Your debts'!$C$10),1)-'Your debts'!$C$10,0)+IFERROR('Your debts'!$E$11*CEILING(NPER('Your debts'!$D$11/1200,-'Your debts'!$E$11,'Your debts'!$C$11),1)-'Your debts'!$C$11,0)+IFERROR('Your debts'!$E$12*CEILING(NPER('Your debts'!$D$12/1200,-'Your debts'!$E$12,'Your debts'!$C$12),1)-'Your debts'!$C$12,0)+IFERROR('Your debts'!$E$13*CEILING(NPER('Your debts'!$D$13/1200,-'Your debts'!$E$13,'Your debts'!$C$13),1)-'Your debts'!$C$13,0)+IFERROR('Your debts'!$E$14*CEILING(NPER('Your debts'!$D$14/1200,-'Your debts'!$E$14,'Your debts'!$C$14),1)-'Your debts'!$C$14,0)+IFERROR('Your debts'!$E$15*CEILING(NPER('Your debts'!$D$15/1200,-'Your debts'!$E$15,'Your debts'!$C$15),1)-'Your debts'!$C$15,0),"#,##0")&" of interest","")
B10: So this plan saves you | C10: =IFERROR(MAX(IFERROR(CEILING(NPER('Your debts'!$D$6/1200,-'Your debts'!$E$6,'Your debts'!$C$6),1),0),IFERROR(CEILING(NPER('Your debts'!$D$7/1200,-'Your debts'!$E$7,'Your debts'!$C$7),1),0),IFERROR(CEILING(NPER('Your debts'!$D$8/1200,-'Your debts'!$E$8,'Your debts'!$C$8),1),0),IFERROR(CEILING(NPER('Your debts'!$D$9/1200,-'Your debts'!$E$9,'Your debts'!$C$9),1),0),IFERROR(CEILING(NPER('Your debts'!$D$10/1200,-'Your debts'!$E$10,'Your debts'!$C$10),1),0),IFERROR(CEILING(NPER('Your debts'!$D$11/1200,-'Your debts'!$E$11,'Your debts'!$C$11),1),0),IFERROR(CEILING(NPER('Your debts'!$D$12/1200,-'Your debts'!$E$12,'Your debts'!$C$12),1),0),IFERROR(CEILING(NPER('Your debts'!$D$13/1200,-'Your debts'!$E$13,'Your debts'!$C$13),1),0),IFERROR(CEILING(NPER('Your debts'!$D$14/1200,-'Your debts'!$E$14,'Your debts'!$C$14),1),0),IFERROR(CEILING(NPER('Your debts'!$D$15/1200,-'Your debts'!$E$15,'Your debts'!$C$15),1),0))-MATCH(TRUE,INDEX($E$16:$E$315<=0,0),0)&" months and $"&TEXT((IFERROR('Your debts'!$E$6*CEILING(NPER('Your debts'!$D$6/1200,-'Your debts'!$E$6,'Your debts'!$C$6),1)-'Your debts'!$C$6,0)+IFERROR('Your debts'!$E$7*CEILING(NPER('Your debts'!$D$7/1200,-'Your debts'!$E$7,'Your debts'!$C$7),1)-'Your debts'!$C$7,0)+IFERROR('Your debts'!$E$8*CEILING(NPER('Your debts'!$D$8/1200,-'Your debts'!$E$8,'Your debts'!$C$8),1)-'Your debts'!$C$8,0)+IFERROR('Your debts'!$E$9*CEILING(NPER('Your debts'!$D$9/1200,-'Your debts'!$E$9,'Your debts'!$C$9),1)-'Your debts'!$C$9,0)+IFERROR('Your debts'!$E$10*CEILING(NPER('Your debts'!$D$10/1200,-'Your debts'!$E$10,'Your debts'!$C$10),1)-'Your debts'!$C$10,0)+IFERROR('Your debts'!$E$11*CEILING(NPER('Your debts'!$D$11/1200,-'Your debts'!$E$11,'Your debts'!$C$11),1)-'Your debts'!$C$11,0)+IFERROR('Your debts'!$E$12*CEILING(NPER('Your debts'!$D$12/1200,-'Your debts'!$E$12,'Your debts'!$C$12),1)-'Your debts'!$C$12,0)+IFERROR('Your debts'!$E$13*CEILING(NPER('Your debts'!$D$13/1200,-'Your debts'!$E$13,'Your debts'!$C$13),1)-'Your debts'!$C$13,0)+IFERROR('Your debts'!$E$14*CEILING(NPER('Your debts'!$D$14/1200,-'Your debts'!$E$14,'Your debts'!$C$14),1)-'Your debts'!$C$14,0)+IFERROR('Your debts'!$E$15*CEILING(NPER('Your debts'!$D$15/1200,-'Your debts'!$E$15,'Your debts'!$C$15),1)-'Your debts'!$C$15,0))-SUM($C$16:INDEX($C$16:$C$315,MATCH(TRUE,INDEX($E$16:$E$315<=0,0),0))),"#,##0")&" of interest","")
B12: Month by month
F13: =IF('Your debts'!B6="","",'Your debts'!B6) | K13: =IF('Your debts'!B7="","",'Your debts'!B7) | P13: =IF('Your debts'!B8="","",'Your debts'!B8) | U13: =IF('Your debts'!B9="","",'Your debts'!B9) | Z13: =IF('Your debts'!B10="","",'Your debts'!B10) | AE13: =IF('Your debts'!B11="","",'Your debts'!B11) | AJ13: =IF('Your debts'!B12="","",'Your debts'!B12) | AO13: =IF('Your debts'!B13="","",'Your debts'!B13) | AT13: =IF('Your debts'!B14="","",'Your debts'!B14) | AY13: =IF('Your debts'!B15="","",'Your debts'!B15)
A14: Month | B14: Date | C14: Interest added | D14: You paid | E14: Still owed | F14: + interest | G14: minimum | H14: after min | I14: + extra | J14: left | K14: + interest | L14: minimum | M14: after min | N14: + extra | O14: left | P14: + interest | Q14: minimum | R14: after min | S14: + extra | T14: left | U14: + interest | V14: minimum | W14: after min | X14: + extra | Y14: left | Z14: + interest | AA14: minimum | AB14: after min | AC14: + extra | AD14: left | AE14: + interest | AF14: minimum | AG14: after min | AH14: + extra | AI14: left | AJ14: + interest | AK14: minimum | AL14: after min | AM14: + extra | AN14: left | AO14: + interest | AP14: minimum | AQ14: after min | AR14: + extra | AS14: left | AT14: + interest | AU14: minimum | AV14: after min | AW14: + extra | AX14: left | AY14: + interest | AZ14: minimum | BA14: after min | BB14: + extra | BC14: left
A15: 0 | B15: =TODAY() | E15: =J15+O15+T15+Y15+AD15+AI15+AN15+AS15+AX15+BC15 | J15: =IF('Your debts'!B6="",0,'Your debts'!C6) | O15: =IF('Your debts'!B7="",0,'Your debts'!C7) | T15: =IF('Your debts'!B8="",0,'Your debts'!C8) | Y15: =IF('Your debts'!B9="",0,'Your debts'!C9) | AD15: =IF('Your debts'!B10="",0,'Your debts'!C10) | AI15: =IF('Your debts'!B11="",0,'Your debts'!C11) | AN15: =IF('Your debts'!B12="",0,'Your debts'!C12) | AS15: =IF('Your debts'!B13="",0,'Your debts'!C13) | AX15: =IF('Your debts'!B14="",0,'Your debts'!C14) | BC15: =IF('Your debts'!B15="",0,'Your debts'!C15)
A16: 1 | B16: =EDATE($B$15,1) | C16: =IF(J15<=0,0,F16-J15)+IF(O15<=0,0,K16-O15)+IF(T15<=0,0,P16-T15)+IF(Y15<=0,0,U16-Y15)+IF(AD15<=0,0,Z16-AD15)+IF(AI15<=0,0,AE16-AI15)+IF(AN15<=0,0,AJ16-AN15)+IF(AS15<=0,0,AO16-AS15)+IF(AX15<=0,0,AT16-AX15)+IF(BC15<=0,0,AY16-BC15) | D16: =G16+I16+L16+N16+Q16+S16+V16+X16+AA16+AC16+AF16+AH16+AK16+AM16+AP16+AR16+AU16+AW16+AZ16+BB16 | E16: =J16+O16+T16+Y16+AD16+AI16+AN16+AS16+AX16+BC16 | F16: =IF(J15<=0,0,ROUND(J15*(1+'Your debts'!$D$6/1200),2)) | G16: =IF(F16<=0,0,MIN('Your debts'!$E$6,F16)) | H16: =F16-G16 | I16: =IF('Your debts'!$F$6="",0,MIN(H16,MAX(0,MAX(0,'Your debts'!$C$19-(G16+L16+Q16+V16+AA16+AF16+AK16+AP16+AU16+AZ16))-(IF(AND('Your debts'!$F$7<>"",'Your debts'!$F$6<>"",'Your debts'!$F$7<'Your debts'!$F$6),M16,0)+IF(AND('Your debts'!$F$8<>"",'Your debts'!$F$6<>"",'Your debts'!$F$8<'Your debts'!$F$6),R16,0)+IF(AND('Your debts'!$F$9<>"",'Your debts'!$F$6<>"",'Your debts'!$F$9<'Your debts'!$F$6),W16,0)+IF(AND('Your debts'!$F$10<>"",'Your debts'!$F$6<>"",'Your debts'!$F$10<'Your debts'!$F$6),AB16,0)+IF(AND('Your debts'!$F$11<>"",'Your debts'!$F$6<>"",'Your debts'!$F$11<'Your debts'!$F$6),AG16,0)+IF(AND('Your debts'!$F$12<>"",'Your debts'!$F$6<>"",'Your debts'!$F$12<'Your debts'!$F$6),AL16,0)+IF(AND('Your debts'!$F$13<>"",'Your debts'!$F$6<>"",'Your debts'!$F$13<'Your debts'!$F$6),AQ16,0)+IF(AND('Your debts'!$F$14<>"",'Your debts'!$F$6<>"",'Your debts'!$F$14<'Your debts'!$F$6),AV16,0)+IF(AND('Your debts'!$F$15<>"",'Your debts'!$F$6<>"",'Your debts'!$F$15<'Your debts'!$F$6),BA16,0))))) | J16: =H16-I16 | K16: =IF(O15<=0,0,ROUND(O15*(1+'Your debts'!$D$7/1200),2)) | L16: =IF(K16<=0,0,MIN('Your debts'!$E$7,K16)) | M16: =K16-L16 | N16: =IF('Your debts'!$F$7="",0,MIN(M16,MAX(0,MAX(0,'Your debts'!$C$19-(G16+L16+Q16+V16+AA16+AF16+AK16+AP16+AU16+AZ16))-(IF(AND('Your debts'!$F$6<>"",'Your debts'!$F$7<>"",'Your debts'!$F$6<'Your debts'!$F$7),H16,0)+IF(AND('Your debts'!$F$8<>"",'Your debts'!$F$7<>"",'Your debts'!$F$8<'Your debts'!$F$7),R16,0)+IF(AND('Your debts'!$F$9<>"",'Your debts'!$F$7<>"",'Your debts'!$F$9<'Your debts'!$F$7),W16,0)+IF(AND('Your debts'!$F$10<>"",'Your debts'!$F$7<>"",'Your debts'!$F$10<'Your debts'!$F$7),AB16,0)+IF(AND('Your debts'!$F$11<>"",'Your debts'!$F$7<>"",'Your debts'!$F$11<'Your debts'!$F$7),AG16,0)+IF(AND('Your debts'!$F$12<>"",'Your debts'!$F$7<>"",'Your debts'!$F$12<'Your debts'!$F$7),AL16,0)+IF(AND('Your debts'!$F$13<>"",'Your debts'!$F$7<>"",'Your debts'!$F$13<'Your debts'!$F$7),AQ16,0)+IF(AND('Your debts'!$F$14<>"",'Your debts'!$F$7<>"",'Your debts'!$F$14<'Your debts'!$F$7),AV16,0)+IF(AND('Your debts'!$F$15<>"",'Your debts'!$F$7<>"",'Your debts'!$F$15<'Your debts'!$F$7),BA16,0))))) | O16: =M16-N16 | P16: =IF(T15<=0,0,ROUND(T15*(1+'Your debts'!$D$8/1200),2)) | Q16: =IF(P16<=0,0,MIN('Your debts'!$E$8,P16)) | R16: =P16-Q16 | S16: =IF('Your debts'!$F$8="",0,MIN(R16,MAX(0,MAX(0,'Your debts'!$C$19-(G16+L16+Q16+V16+AA16+AF16+AK16+AP16+AU16+AZ16))-(IF(AND('Your debts'!$F$6<>"",'Your debts'!$F$8<>"",'Your debts'!$F$6<'Your debts'!$F$8),H16,0)+IF(AND('Your debts'!$F$7<>"",'Your debts'!$F$8<>"",'Your debts'!$F$7<'Your debts'!$F$8),M16,0)+IF(AND('Your debts'!$F$9<>"",'Your debts'!$F$8<>"",'Your debts'!$F$9<'Your debts'!$F$8),W16,0)+IF(AND('Your debts'!$F$10<>"",'Your debts'!$F$8<>"",'Your debts'!$F$10<'Your debts'!$F$8),AB16,0)+IF(AND('Your debts'!$F$11<>"",'Your debts'!$F$8<>"",'Your debts'!$F$11<'Your debts'!$F$8),AG16,0)+IF(AND('Your debts'!$F$12<>"",'Your debts'!$F$8<>"",'Your debts'!$F$12<'Your debts'!$F$8),AL16,0)+IF(AND('Your debts'!$F$13<>"",'Your debts'!$F$8<>"",'Your debts'!$F$13<'Your debts'!$F$8),AQ16,0)+IF(AND('Your debts'!$F$14<>"",'Your debts'!$F$8<>"",'Your debts'!$F$14<'Your debts'!$F$8),AV16,0)+IF(AND('Your debts'!$F$15<>"",'Your debts'!$F$8<>"",'Your debts'!$F$15<'Your debts'!$F$8),BA16,0))))) | T16: =R16-S16 | U16: =IF(Y15<=0,0,ROUND(Y15*(1+'Your debts'!$D$9/1200),2)) | V16: =IF(U16<=0,0,MIN('Your debts'!$E$9,U16)) | W16: =U16-V16 | X16: =IF('Your debts'!$F$9="",0,MIN(W16,MAX(0,MAX(0,'Your debts'!$C$19-(G16+L16+Q16+V16+AA16+AF16+AK16+AP16+AU16+AZ16))-(IF(AND('Your debts'!$F$6<>"",'Your debts'!$F$9<>"",'Your debts'!$F$6<'Your debts'!$F$9),H16,0)+IF(AND('Your debts'!$F$7<>"",'Your debts'!$F$9<>"",'Your debts'!$F$7<'Your debts'!$F$9),M16,0)+IF(AND('Your debts'!$F$8<>"",'Your debts'!$F$9<>"",'Your debts'!$F$8<'Your debts'!$F$9),R16,0)+IF(AND('Your debts'!$F$10<>"",'Your debts'!$F$9<>"",'Your debts'!$F$10<'Your debts'!$F$9),AB16,0)+IF(AND('Your debts'!$F$11<>"",'Your debts'!$F$9<>"",'Your debts'!$F$11<'Your debts'!$F$9),AG16,0)+IF(AND('Your debts'!$F$12<>"",'Your debts'!$F$9<>"",'Your debts'!$F$12<'Your debts'!$F$9),AL16,0)+IF(AND('Your debts'!$F$13<>"",'Your debts'!$F$9<>"",'Your debts'!$F$13<'Your debts'!$F$9),AQ16,0)+IF(AND('Your debts'!$F$14<>"",'Your debts'!$F$9<>"",'Your debts'!$F$14<'Your debts'!$F$9),AV16,0)+IF(AND('Your debts'!$F$15<>"",'Your debts'!$F$9<>"",'Your debts'!$F$15<'Your debts'!$F$9),BA16,0))))) | Y16: =W16-X16 | Z16: =IF(AD15<=0,0,ROUND(AD15*(1+'Your debts'!$D$10/1200),2)) | AA16: =IF(Z16<=0,0,MIN('Your debts'!$E$10,Z16)) | AB16: =Z16-AA16 | AC16: =IF('Your debts'!$F$10="",0,MIN(AB16,MAX(0,MAX(0,'Your debts'!$C$19-(G16+L16+Q16+V16+AA16+AF16+AK16+AP16+AU16+AZ16))-(IF(AND('Your debts'!$F$6<>"",'Your debts'!$F$10<>"",'Your debts'!$F$6<'Your debts'!$F$10),H16,0)+IF(AND('Your debts'!$F$7<>"",'Your debts'!$F$10<>"",'Your debts'!$F$7<'Your debts'!$F$10),M16,0)+IF(AND('Your debts'!$F$8<>"",'Your debts'!$F$10<>"",'Your debts'!$F$8<'Your debts'!$F$10),R16,0)+IF(AND('Your debts'!$F$9<>"",'Your debts'!$F$10<>"",'Your debts'!$F$9<'Your debts'!$F$10),W16,0)+IF(AND('Your debts'!$F$11<>"",'Your debts'!$F$10<>"",'Your debts'!$F$11<'Your debts'!$F$10),AG16,0)+IF(AND('Your debts'!$F$12<>"",'Your debts'!$F$10<>"",'Your debts'!$F$12<'Your debts'!$F$10),AL16,0)+IF(AND('Your debts'!$F$13<>"",'Your debts'!$F$10<>"",'Your debts'!$F$13<'Your debts'!$F$10),AQ16,0)+IF(AND('Your debts'!$F$14<>"",'Your debts'!$F$10<>"",'Your debts'!$F$14<'Your debts'!$F$10),AV16,0)+IF(AND('Your debts'!$F$15<>"",'Your debts'!$F$10<>"",'Your debts'!$F$15<'Your debts'!$F$10),BA16,0))))) | AD16: =AB16-AC16 | AE16: =IF(AI15<=0,0,ROUND(AI15*(1+'Your debts'!$D$11/1200),2)) | AF16: =IF(AE16<=0,0,MIN('Your debts'!$E$11,AE16)) | AG16: =AE16-AF16 | AH16: =IF('Your debts'!$F$11="",0,MIN(AG16,MAX(0,MAX(0,'Your debts'!$C$19-(G16+L16+Q16+V16+AA16+AF16+AK16+AP16+AU16+AZ16))-(IF(AND('Your debts'!$F$6<>"",'Your debts'!$F$11<>"",'Your debts'!$F$6<'Your debts'!$F$11),H16,0)+IF(AND('Your debts'!$F$7<>"",'Your debts'!$F$11<>"",'Your debts'!$F$7<'Your debts'!$F$11),M16,0)+IF(AND('Your debts'!$F$8<>"",'Your debts'!$F$11<>"",'Your debts'!$F$8<'Your debts'!$F$11),R16,0)+IF(AND('Your debts'!$F$9<>"",'Your debts'!$F$11<>"",'Your debts'!$F$9<'Your debts'!$F$11),W16,0)+IF(AND('Your debts'!$F$10<>"",'Your debts'!$F$11<>"",'Your debts'!$F$10<'Your debts'!$F$11),AB16,0)+IF(AND('Your debts'!$F$12<>"",'Your debts'!$F$11<>"",'Your debts'!$F$12<'Your debts'!$F$11),AL16,0)+IF(AND('Your debts'!$F$13<>"",'Your debts'!$F$11<>"",'Your debts'!$F$13<'Your debts'!$F$11),AQ16,0)+IF(AND('Your debts'!$F$14<>"",'Your debts'!$F$11<>"",'Your debts'!$F$14<'Your debts'!$F$11),AV16,0)+IF(AND('Your debts'!$F$15<>"",'Your debts'!$F$11<>"",'Your debts'!$F$15<'Your debts'!$F$11),BA16,0))))) | AI16: =AG16-AH16 | AJ16: =IF(AN15<=0,0,ROUND(AN15*(1+'Your debts'!$D$12/1200),2)) | AK16: =IF(AJ16<=0,0,MIN('Your debts'!$E$12,AJ16)) | AL16: =AJ16-AK16 | AM16: =IF('Your debts'!$F$12="",0,MIN(AL16,MAX(0,MAX(0,'Your debts'!$C$19-(G16+L16+Q16+V16+AA16+AF16+AK16+AP16+AU16+AZ16))-(IF(AND('Your debts'!$F$6<>"",'Your debts'!$F$12<>"",'Your debts'!$F$6<'Your debts'!$F$12),H16,0)+IF(AND('Your debts'!$F$7<>"",'Your debts'!$F$12<>"",'Your debts'!$F$7<'Your debts'!$F$12),M16,0)+IF(AND('Your debts'!$F$8<>"",'Your debts'!$F$12<>"",'Your debts'!$F$8<'Your debts'!$F$12),R16,0)+IF(AND('Your debts'!$F$9<>"",'Your debts'!$F$12<>"",'Your debts'!$F$9<'Your debts'!$F$12),W16,0)+IF(AND('Your debts'!$F$10<>"",'Your debts'!$F$12<>"",'Your debts'!$F$10<'Your debts'!$F$12),AB16,0)+IF(AND('Your debts'!$F$11<>"",'Your debts'!$F$12<>"",'Your debts'!$F$11<'Your debts'!$F$12),AG16,0)+IF(AND('Your debts'!$F$13<>"",'Your debts'!$F$12<>"",'Your debts'!$F$13<'Your debts'!$F$12),AQ16,0)+IF(AND('Your debts'!$F$14<>"",'Your debts'!$F$12<>"",'Your debts'!$F$14<'Your debts'!$F$12),AV16,0)+IF(AND('Your debts'!$F$15<>"",'Your debts'!$F$12<>"",'Your debts'!$F$15<'Your debts'!$F$12),BA16,0))))) | AN16: =AL16-AM16 | AO16: =IF(AS15<=0,0,ROUND(AS15*(1+'Your debts'!$D$13/1200),2)) | AP16: =IF(AO16<=0,0,MIN('Your debts'!$E$13,AO16)) | AQ16: =AO16-AP16 | AR16: =IF('Your debts'!$F$13="",0,MIN(AQ16,MAX(0,MAX(0,'Your debts'!$C$19-(G16+L16+Q16+V16+AA16+AF16+AK16+AP16+AU16+AZ16))-(IF(AND('Your debts'!$F$6<>"",'Your debts'!$F$13<>"",'Your debts'!$F$6<'Your debts'!$F$13),H16,0)+IF(AND('Your debts'!$F$7<>"",'Your debts'!$F$13<>"",'Your debts'!$F$7<'Your debts'!$F$13),M16,0)+IF(AND('Your debts'!$F$8<>"",'Your debts'!$F$13<>"",'Your debts'!$F$8<'Your debts'!$F$13),R16,0)+IF(AND('Your debts'!$F$9<>"",'Your debts'!$F$13<>"",'Your debts'!$F$9<'Your debts'!$F$13),W16,0)+IF(AND('Your debts'!$F$10<>"",'Your debts'!$F$13<>"",'Your debts'!$F$10<'Your debts'!$F$13),AB16,0)+IF(AND('Your debts'!$F$11<>"",'Your debts'!$F$13<>"",'Your debts'!$F$11<'Your debts'!$F$13),AG16,0)+IF(AND('Your debts'!$F$12<>"",'Your debts'!$F$13<>"",'Your debts'!$F$12<'Your debts'!$F$13),AL16,0)+IF(AND('Your debts'!$F$14<>"",'Your debts'!$F$13<>"",'Your debts'!$F$14<'Your debts'!$F$13),AV16,0)+IF(AND('Your debts'!$F$15<>"",'Your debts'!$F$13<>"",'Your debts'!$F$15<'Your debts'!$F$13),BA16,0))))) | AS16: =AQ16-AR16 | AT16: =IF(AX15<=0,0,ROUND(AX15*(1+'Your debts'!$D$14/1200),2)) | AU16: =IF(AT16<=0,0,MIN('Your debts'!$E$14,AT16)) | AV16: =AT16-AU16 | AW16: =IF('Your debts'!$F$14="",0,MIN(AV16,MAX(0,MAX(0,'Your debts'!$C$19-(G16+L16+Q16+V16+AA16+AF16+AK16+AP16+AU16+AZ16))-(IF(AND('Your debts'!$F$6<>"",'Your debts'!$F$14<>"",'Your debts'!$F$6<'Your debts'!$F$14),H16,0)+IF(AND('Your debts'!$F$7<>"",'Your debts'!$F$14<>"",'Your debts'!$F$7<'Your debts'!$F$14),M16,0)+IF(AND('Your debts'!$F$8<>"",'Your debts'!$F$14<>"",'Your debts'!$F$8<'Your debts'!$F$14),R16,0)+IF(AND('Your debts'!$F$9<>"",'Your debts'!$F$14<>"",'Your debts'!$F$9<'Your debts'!$F$14),W16,0)+IF(AND('Your debts'!$F$10<>"",'Your debts'!$F$14<>"",'Your debts'!$F$10<'Your debts'!$F$14),AB16,0)+IF(AND('Your debts'!$F$11<>"",'Your debts'!$F$14<>"",'Your debts'!$F$11<'Your debts'!$F$14),AG16,0)+IF(AND('Your debts'!$F$12<>"",'Your debts'!$F$14<>"",'Your debts'!$F$12<'Your debts'!$F$14),AL16,0)+IF(AND('Your debts'!$F$13<>"",'Your debts'!$F$14<>"",'Your debts'!$F$13<'Your debts'!$F$14),AQ16,0)+IF(AND('Your debts'!$F$15<>"",'Your debts'!$F$14<>"",'Your debts'!$F$15<'Your debts'!$F$14),BA16,0))))) | AX16: =AV16-AW16 | AY16: =IF(BC15<=0,0,ROUND(BC15*(1+'Your debts'!$D$15/1200),2)) | AZ16: =IF(AY16<=0,0,MIN('Your debts'!$E$15,AY16)) | BA16: =AY16-AZ16 | BB16: =IF('Your debts'!$F$15="",0,MIN(BA16,MAX(0,MAX(0,'Your debts'!$C$19-(G16+L16+Q16+V16+AA16+AF16+AK16+AP16+AU16+AZ16))-(IF(AND('Your debts'!$F$6<>"",'Your debts'!$F$15<>"",'Your debts'!$F$6<'Your debts'!$F$15),H16,0)+IF(AND('Your debts'!$F$7<>"",'Your debts'!$F$15<>"",'Your debts'!$F$7<'Your debts'!$F$15),M16,0)+IF(AND('Your debts'!$F$8<>"",'Your debts'!$F$15<>"",'Your debts'!$F$8<'Your debts'!$F$15),R16,0)+IF(AND('Your debts'!$F$9<>"",'Your debts'!$F$15<>"",'Your debts'!$F$9<'Your debts'!$F$15),W16,0)+IF(AND('Your debts'!$F$10<>"",'Your debts'!$F$15<>"",'Your debts'!$F$10<'Your debts'!$F$15),AB16,0)+IF(AND('Your debts'!$F$11<>"",'Your debts'!$F$15<>"",'Your debts'!$F$11<'Your debts'!$F$15),AG16,0)+IF(AND('Your debts'!$F$12<>"",'Your debts'!$F$15<>"",'Your debts'!$F$12<'Your debts'!$F$15),AL16,0)+IF(AND('Your debts'!$F$13<>"",'Your debts'!$F$15<>"",'Your debts'!$F$13<'Your debts'!$F$15),AQ16,0)+IF(AND('Your debts'!$F$14<>"",'Your debts'!$F$15<>"",'Your debts'!$F$14<'Your debts'!$F$15),AV16,0))))) | BC16: =BA16-BB16
A17: 2 | B17: =EDATE($B$15,2) | C17: =IF(J16<=0,0,F17-J16)+IF(O16<=0,0,K17-O16)+IF(T16<=0,0,P17-T16)+IF(Y16<=0,0,U17-Y16)+IF(AD16<=0,0,Z17-AD16)+IF(AI16<=0,0,AE17-AI16)+IF(AN16<=0,0,AJ17-AN16)+IF(AS16<=0,0,AO17-AS16)+IF(AX16<=0,0,AT17-AX16)+IF(BC16<=0,0,AY17-BC16) | D17: =G17+I17+L17+N17+Q17+S17+V17+X17+AA17+AC17+AF17+AH17+AK17+AM17+AP17+AR17+AU17+AW17+AZ17+BB17 | E17: =J17+O17+T17+Y17+AD17+AI17+AN17+AS17+AX17+BC17 | F17: =IF(J16<=0,0,ROUND(J16*(1+'Your debts'!$D$6/1200),2)) | G17: =IF(F17<=0,0,MIN('Your debts'!$E$6,F17)) | H17: =F17-G17 | I17: =IF('Your debts'!$F$6="",0,MIN(H17,MAX(0,MAX(0,'Your debts'!$C$19-(G17+L17+Q17+V17+AA17+AF17+AK17+AP17+AU17+AZ17))-(IF(AND('Your debts'!$F$7<>"",'Your debts'!$F$6<>"",'Your debts'!$F$7<'Your debts'!$F$6),M17,0)+IF(AND('Your debts'!$F$8<>"",'Your debts'!$F$6<>"",'Your debts'!$F$8<'Your debts'!$F$6),R17,0)+IF(AND('Your debts'!$F$9<>"",'Your debts'!$F$6<>"",'Your debts'!$F$9<'Your debts'!$F$6),W17,0)+IF(AND('Your debts'!$F$10<>"",'Your debts'!$F$6<>"",'Your debts'!$F$10<'Your debts'!$F$6),AB17,0)+IF(AND('Your debts'!$F$11<>"",'Your debts'!$F$6<>"",'Your debts'!$F$11<'Your debts'!$F$6),AG17,0)+IF(AND('Your debts'!$F$12<>"",'Your debts'!$F$6<>"",'Your debts'!$F$12<'Your debts'!$F$6),AL17,0)+IF(AND('Your debts'!$F$13<>"",'Your debts'!$F$6<>"",'Your debts'!$F$13<'Your debts'!$F$6),AQ17,0)+IF(AND('Your debts'!$F$14<>"",'Your debts'!$F$6<>"",'Your debts'!$F$14<'Your debts'!$F$6),AV17,0)+IF(AND('Your debts'!$F$15<>"",'Your debts'!$F$6<>"",'Your debts'!$F$15<'Your debts'!$F$6),BA17,0))))) | J17: =H17-I17 | K17: =IF(O16<=0,0,ROUND(O16*(1+'Your debts'!$D$7/1200),2)) | L17: =IF(K17<=0,0,MIN('Your debts'!$E$7,K17)) | M17: =K17-L17 | N17: =IF('Your debts'!$F$7="",0,MIN(M17,MAX(0,MAX(0,'Your debts'!$C$19-(G17+L17+Q17+V17+AA17+AF17+AK17+AP17+AU17+AZ17))-(IF(AND('Your debts'!$F$6<>"",'Your debts'!$F$7<>"",'Your debts'!$F$6<'Your debts'!$F$7),H17,0)+IF(AND('Your debts'!$F$8<>"",'Your debts'!$F$7<>"",'Your debts'!$F$8<'Your debts'!$F$7),R17,0)+IF(AND('Your debts'!$F$9<>"",'Your debts'!$F$7<>"",'Your debts'!$F$9<'Your debts'!$F$7),W17,0)+IF(AND('Your debts'!$F$10<>"",'Your debts'!$F$7<>"",'Your debts'!$F$10<'Your debts'!$F$7),AB17,0)+IF(AND('Your debts'!$F$11<>"",'Your debts'!$F$7<>"",'Your debts'!$F$11<'Your debts'!$F$7),AG17,0)+IF(AND('Your debts'!$F$12<>"",'Your debts'!$F$7<>"",'Your debts'!$F$12<'Your debts'!$F$7),AL17,0)+IF(AND('Your debts'!$F$13<>"",'Your debts'!$F$7<>"",'Your debts'!$F$13<'Your debts'!$F$7),AQ17,0)+IF(AND('Your debts'!$F$14<>"",'Your debts'!$F$7<>"",'Your debts'!$F$14<'Your debts'!$F$7),AV17,0)+IF(AND('Your debts'!$F$15<>"",'Your debts'!$F$7<>"",'Your debts'!$F$15<'Your debts'!$F$7),BA17,0))))) | O17: =M17-N17 | P17: =IF(T16<=0,0,ROUND(T16*(1+'Your debts'!$D$8/1200),2)) | Q17: =IF(P17<=0,0,MIN('Your debts'!$E$8,P17)) | R17: =P17-Q17 | S17: =IF('Your debts'!$F$8="",0,MIN(R17,MAX(0,MAX(0,'Your debts'!$C$19-(G17+L17+Q17+V17+AA17+AF17+AK17+AP17+AU17+AZ17))-(IF(AND('Your debts'!$F$6<>"",'Your debts'!$F$8<>"",'Your debts'!$F$6<'Your debts'!$F$8),H17,0)+IF(AND('Your debts'!$F$7<>"",'Your debts'!$F$8<>"",'Your debts'!$F$7<'Your debts'!$F$8),M17,0)+IF(AND('Your debts'!$F$9<>"",'Your debts'!$F$8<>"",'Your debts'!$F$9<'Your debts'!$F$8),W17,0)+IF(AND('Your debts'!$F$10<>"",'Your debts'!$F$8<>"",'Your debts'!$F$10<'Your debts'!$F$8),AB17,0)+IF(AND('Your debts'!$F$11<>"",'Your debts'!$F$8<>"",'Your debts'!$F$11<'Your debts'!$F$8),AG17,0)+IF(AND('Your debts'!$F$12<>"",'Your debts'!$F$8<>"",'Your debts'!$F$12<'Your debts'!$F$8),AL17,0)+IF(AND('Your debts'!$F$13<>"",'Your debts'!$F$8<>"",'Your debts'!$F$13<'Your debts'!$F$8),AQ17,0)+IF(AND('Your debts'!$F$14<>"",'Your debts'!$F$8<>"",'Your debts'!$F$14<'Your debts'!$F$8),AV17,0)+IF(AND('Your debts'!$F$15<>"",'Your debts'!$F$8<>"",'Your debts'!$F$15<'Your debts'!$F$8),BA17,0))))) | T17: =R17-S17 | U17: =IF(Y16<=0,0,ROUND(Y16*(1+'Your debts'!$D$9/1200),2)) | V17: =IF(U17<=0,0,MIN('Your debts'!$E$9,U17)) | W17: =U17-V17 | X17: =IF('Your debts'!$F$9="",0,MIN(W17,MAX(0,MAX(0,'Your debts'!$C$19-(G17+L17+Q17+V17+AA17+AF17+AK17+AP17+AU17+AZ17))-(IF(AND('Your debts'!$F$6<>"",'Your debts'!$F$9<>"",'Your debts'!$F$6<'Your debts'!$F$9),H17,0)+IF(AND('Your debts'!$F$7<>"",'Your debts'!$F$9<>"",'Your debts'!$F$7<'Your debts'!$F$9),M17,0)+IF(AND('Your debts'!$F$8<>"",'Your debts'!$F$9<>"",'Your debts'!$F$8<'Your debts'!$F$9),R17,0)+IF(AND('Your debts'!$F$10<>"",'Your debts'!$F$9<>"",'Your debts'!$F$10<'Your debts'!$F$9),AB17,0)+IF(AND('Your debts'!$F$11<>"",'Your debts'!$F$9<>"",'Your debts'!$F$11<'Your debts'!$F$9),AG17,0)+IF(AND('Your debts'!$F$12<>"",'Your debts'!$F$9<>"",'Your debts'!$F$12<'Your debts'!$F$9),AL17,0)+IF(AND('Your debts'!$F$13<>"",'Your debts'!$F$9<>"",'Your debts'!$F$13<'Your debts'!$F$9),AQ17,0)+IF(AND('Your debts'!$F$14<>"",'Your debts'!$F$9<>"",'Your debts'!$F$14<'Your debts'!$F$9),AV17,0)+IF(AND('Your debts'!$F$15<>"",'Your debts'!$F$9<>"",'Your debts'!$F$15<'Your debts'!$F$9),BA17,0))))) | Y17: =W17-X17 | Z17: =IF(AD16<=0,0,ROUND(AD16*(1+'Your debts'!$D$10/1200),2)) | AA17: =IF(Z17<=0,0,MIN('Your debts'!$E$10,Z17)) | AB17: =Z17-AA17 | AC17: =IF('Your debts'!$F$10="",0,MIN(AB17,MAX(0,MAX(0,'Your debts'!$C$19-(G17+L17+Q17+V17+AA17+AF17+AK17+AP17+AU17+AZ17))-(IF(AND('Your debts'!$F$6<>"",'Your debts'!$F$10<>"",'Your debts'!$F$6<'Your debts'!$F$10),H17,0)+IF(AND('Your debts'!$F$7<>"",'Your debts'!$F$10<>"",'Your debts'!$F$7<'Your debts'!$F$10),M17,0)+IF(AND('Your debts'!$F$8<>"",'Your debts'!$F$10<>"",'Your debts'!$F$8<'Your debts'!$F$10),R17,0)+IF(AND('Your debts'!$F$9<>"",'Your debts'!$F$10<>"",'Your debts'!$F$9<'Your debts'!$F$10),W17,0)+IF(AND('Your debts'!$F$11<>"",'Your debts'!$F$10<>"",'Your debts'!$F$11<'Your debts'!$F$10),AG17,0)+IF(AND('Your debts'!$F$12<>"",'Your debts'!$F$10<>"",'Your debts'!$F$12<'Your debts'!$F$10),AL17,0)+IF(AND('Your debts'!$F$13<>"",'Your debts'!$F$10<>"",'Your debts'!$F$13<'Your debts'!$F$10),AQ17,0)+IF(AND('Your debts'!$F$14<>"",'Your debts'!$F$10<>"",'Your debts'!$F$14<'Your debts'!$F$10),AV17,0)+IF(AND('Your debts'!$F$15<>"",'Your debts'!$F$10<>"",'Your debts'!$F$15<'Your debts'!$F$10),BA17,0))))) | AD17: =AB17-AC17 | AE17: =IF(AI16<=0,0,ROUND(AI16*(1+'Your debts'!$D$11/1200),2)) | AF17: =IF(AE17<=0,0,MIN('Your debts'!$E$11,AE17)) | AG17: =AE17-AF17 | AH17: =IF('Your debts'!$F$11="",0,MIN(AG17,MAX(0,MAX(0,'Your debts'!$C$19-(G17+L17+Q17+V17+AA17+AF17+AK17+AP17+AU17+AZ17))-(IF(AND('Your debts'!$F$6<>"",'Your debts'!$F$11<>"",'Your debts'!$F$6<'Your debts'!$F$11),H17,0)+IF(AND('Your debts'!$F$7<>"",'Your debts'!$F$11<>"",'Your debts'!$F$7<'Your debts'!$F$11),M17,0)+IF(AND('Your debts'!$F$8<>"",'Your debts'!$F$11<>"",'Your debts'!$F$8<'Your debts'!$F$11),R17,0)+IF(AND('Your debts'!$F$9<>"",'Your debts'!$F$11<>"",'Your debts'!$F$9<'Your debts'!$F$11),W17,0)+IF(AND('Your debts'!$F$10<>"",'Your debts'!$F$11<>"",'Your debts'!$F$10<'Your debts'!$F$11),AB17,0)+IF(AND('Your debts'!$F$12<>"",'Your debts'!$F$11<>"",'Your debts'!$F$12<'Your debts'!$F$11),AL17,0)+IF(AND('Your debts'!$F$13<>"",'Your debts'!$F$11<>"",'Your debts'!$F$13<'Your debts'!$F$11),AQ17,0)+IF(AND('Your debts'!$F$14<>"",'Your debts'!$F$11<>"",'Your debts'!$F$14<'Your debts'!$F$11),AV17,0)+IF(AND('Your debts'!$F$15<>"",'Your debts'!$F$11<>"",'Your debts'!$F$15<'Your debts'!$F$11),BA17,0))))) | AI17: =AG17-AH17 | AJ17: =IF(AN16<=0,0,ROUND(AN16*(1+'Your debts'!$D$12/1200),2)) | AK17: =IF(AJ17<=0,0,MIN('Your debts'!$E$12,AJ17)) | AL17: =AJ17-AK17 | AM17: =IF('Your debts'!$F$12="",0,MIN(AL17,MAX(0,MAX(0,'Your debts'!$C$19-(G17+L17+Q17+V17+AA17+AF17+AK17+AP17+AU17+AZ17))-(IF(AND('Your debts'!$F$6<>"",'Your debts'!$F$12<>"",'Your debts'!$F$6<'Your debts'!$F$12),H17,0)+IF(AND('Your debts'!$F$7<>"",'Your debts'!$F$12<>"",'Your debts'!$F$7<'Your debts'!$F$12),M17,0)+IF(AND('Your debts'!$F$8<>"",'Your debts'!$F$12<>"",'Your debts'!$F$8<'Your debts'!$F$12),R17,0)+IF(AND('Your debts'!$F$9<>"",'Your debts'!$F$12<>"",'Your debts'!$F$9<'Your debts'!$F$12),W17,0)+IF(AND('Your debts'!$F$10<>"",'Your debts'!$F$12<>"",'Your debts'!$F$10<'Your debts'!$F$12),AB17,0)+IF(AND('Your debts'!$F$11<>"",'Your debts'!$F$12<>"",'Your debts'!$F$11<'Your debts'!$F$12),AG17,0)+IF(AND('Your debts'!$F$13<>"",'Your debts'!$F$12<>"",'Your debts'!$F$13<'Your debts'!$F$12),AQ17,0)+IF(AND('Your debts'!$F$14<>"",'Your debts'!$F$12<>"",'Your debts'!$F$14<'Your debts'!$F$12),AV17,0)+IF(AND('Your debts'!$F$15<>"",'Your debts'!$F$12<>"",'Your debts'!$F$15<'Your debts'!$F$12),BA17,0))))) | AN17: =AL17-AM17 | AO17: =IF(AS16<=0,0,ROUND(AS16*(1+'Your debts'!$D$13/1200),2)) | AP17: =IF(AO17<=0,0,MIN('Your debts'!$E$13,AO17)) | AQ17: =AO17-AP17 | AR17: =IF('Your debts'!$F$13="",0,MIN(AQ17,MAX(0,MAX(0,'Your debts'!$C$19-(G17+L17+Q17+V17+AA17+AF17+AK17+AP17+AU17+AZ17))-(IF(AND('Your debts'!$F$6<>"",'Your debts'!$F$13<>"",'Your debts'!$F$6<'Your debts'!$F$13),H17,0)+IF(AND('Your debts'!$F$7<>"",'Your debts'!$F$13<>"",'Your debts'!$F$7<'Your debts'!$F$13),M17,0)+IF(AND('Your debts'!$F$8<>"",'Your debts'!$F$13<>"",'Your debts'!$F$8<'Your debts'!$F$13),R17,0)+IF(AND('Your debts'!$F$9<>"",'Your debts'!$F$13<>"",'Your debts'!$F$9<'Your debts'!$F$13),W17,0)+IF(AND('Your debts'!$F$10<>"",'Your debts'!$F$13<>"",'Your debts'!$F$10<'Your debts'!$F$13),AB17,0)+IF(AND('Your debts'!$F$11<>"",'Your debts'!$F$13<>"",'Your debts'!$F$11<'Your debts'!$F$13),AG17,0)+IF(AND('Your debts'!$F$12<>"",'Your debts'!$F$13<>"",'Your debts'!$F$12<'Your debts'!$F$13),AL17,0)+IF(AND('Your debts'!$F$14<>"",'Your debts'!$F$13<>"",'Your debts'!$F$14<'Your debts'!$F$13),AV17,0)+IF(AND('Your debts'!$F$15<>"",'Your debts'!$F$13<>"",'Your debts'!$F$15<'Your debts'!$F$13),BA17,0))))) | AS17: =AQ17-AR17 | AT17: =IF(AX16<=0,0,ROUND(AX16*(1+'Your debts'!$D$14/1200),2)) | AU17: =IF(AT17<=0,0,MIN('Your debts'!$E$14,AT17)) | AV17: =AT17-AU17 | AW17: =IF('Your debts'!$F$14="",0,MIN(AV17,MAX(0,MAX(0,'Your debts'!$C$19-(G17+L17+Q17+V17+AA17+AF17+AK17+AP17+AU17+AZ17))-(IF(AND('Your debts'!$F$6<>"",'Your debts'!$F$14<>"",'Your debts'!$F$6<'Your debts'!$F$14),H17,0)+IF(AND('Your debts'!$F$7<>"",'Your debts'!$F$14<>"",'Your debts'!$F$7<'Your debts'!$F$14),M17,0)+IF(AND('Your debts'!$F$8<>"",'Your debts'!$F$14<>"",'Your debts'!$F$8<'Your debts'!$F$14),R17,0)+IF(AND('Your debts'!$F$9<>"",'Your debts'!$F$14<>"",'Your debts'!$F$9<'Your debts'!$F$14),W17,0)+IF(AND('Your debts'!$F$10<>"",'Your debts'!$F$14<>"",'Your debts'!$F$10<'Your debts'!$F$14),AB17,0)+IF(AND('Your debts'!$F$11<>"",'Your debts'!$F$14<>"",'Your debts'!$F$11<'Your debts'!$F$14),AG17,0)+IF(AND('Your debts'!$F$12<>"",'Your debts'!$F$14<>"",'Your debts'!$F$12<'Your debts'!$F$14),AL17,0)+IF(AND('Your debts'!$F$13<>"",'Your debts'!$F$14<>"",'Your debts'!$F$13<'Your debts'!$F$14),AQ17,0)+IF(AND('Your debts'!$F$15<>"",'Your debts'!$F$14<>"",'Your debts'!$F$15<'Your debts'!$F$14),BA17,0))))) | AX17: =AV17-AW17 | AY17: =IF(BC16<=0,0,ROUND(BC16*(1+'Your debts'!$D$15/1200),2)) | AZ17: =IF(AY17<=0,0,MIN('Your debts'!$E$15,AY17)) | BA17: =AY17-AZ17 | BB17: =IF('Your debts'!$F$15="",0,MIN(BA17,MAX(0,MAX(0,'Your debts'!$C$19-(G17+L17+Q17+V17+AA17+AF17+AK17+AP17+AU17+AZ17))-(IF(AND('Your debts'!$F$6<>"",'Your debts'!$F$15<>"",'Your debts'!$F$6<'Your debts'!$F$15),H17,0)+IF(AND('Your debts'!$F$7<>"",'Your debts'!$F$15<>"",'Your debts'!$F$7<'Your debts'!$F$15),M17,0)+IF(AND('Your debts'!$F$8<>"",'Your debts'!$F$15<>"",'Your debts'!$F$8<'Your debts'!$F$15),R17,0)+IF(AND('Your debts'!$F$9<>"",'Your debts'!$F$15<>"",'Your debts'!$F$9<'Your debts'!$F$15),W17,0)+IF(AND('Your debts'!$F$10<>"",'Your debts'!$F$15<>"",'Your debts'!$F$10<'Your debts'!$F$15),AB17,0)+IF(AND('Your debts'!$F$11<>"",'Your debts'!$F$15<>"",'Your debts'!$F$11<'Your debts'!$F$15),AG17,0)+IF(AND('Your debts'!$F$12<>"",'Your debts'!$F$15<>"",'Your debts'!$F$12<'Your debts'!$F$15),AL17,0)+IF(AND('Your debts'!$F$13<>"",'Your debts'!$F$15<>"",'Your debts'!$F$13<'Your debts'!$F$15),AQ17,0)+IF(AND('Your debts'!$F$14<>"",'Your debts'!$F$15<>"",'Your debts'!$F$14<'Your debts'!$F$15),AV17,0))))) | BC17: =BA17-BB17
A18: 3 | B18: =EDATE($B$15,3) | C18: =IF(J17<=0,0,F18-J17)+IF(O17<=0,0,K18-O17)+IF(T17<=0,0,P18-T17)+IF(Y17<=0,0,U18-Y17)+IF(AD17<=0,0,Z18-AD17)+IF(AI17<=0,0,AE18-AI17)+IF(AN17<=0,0,AJ18-AN17)+IF(AS17<=0,0,AO18-AS17)+IF(AX17<=0,0,AT18-AX17)+IF(BC17<=0,0,AY18-BC17) | D18: =G18+I18+L18+N18+Q18+S18+V18+X18+AA18+AC18+AF18+AH18+AK18+AM18+AP18+AR18+AU18+AW18+AZ18+BB18 | E18: =J18+O18+T18+Y18+AD18+AI18+AN18+AS18+AX18+BC18 | F18: =IF(J17<=0,0,ROUND(J17*(1+'Your debts'!$D$6/1200),2)) | G18: =IF(F18<=0,0,MIN('Your debts'!$E$6,F18)) | H18: =F18-G18 | I18: =IF('Your debts'!$F$6="",0,MIN(H18,MAX(0,MAX(0,'Your debts'!$C$19-(G18+L18+Q18+V18+AA18+AF18+AK18+AP18+AU18+AZ18))-(IF(AND('Your debts'!$F$7<>"",'Your debts'!$F$6<>"",'Your debts'!$F$7<'Your debts'!$F$6),M18,0)+IF(AND('Your debts'!$F$8<>"",'Your debts'!$F$6<>"",'Your debts'!$F$8<'Your debts'!$F$6),R18,0)+IF(AND('Your debts'!$F$9<>"",'Your debts'!$F$6<>"",'Your debts'!$F$9<'Your debts'!$F$6),W18,0)+IF(AND('Your debts'!$F$10<>"",'Your debts'!$F$6<>"",'Your debts'!$F$10<'Your debts'!$F$6),AB18,0)+IF(AND('Your debts'!$F$11<>"",'Your debts'!$F$6<>"",'Your debts'!$F$11<'Your debts'!$F$6),AG18,0)+IF(AND('Your debts'!$F$12<>"",'Your debts'!$F$6<>"",'Your debts'!$F$12<'Your debts'!$F$6),AL18,0)+IF(AND('Your debts'!$F$13<>"",'Your debts'!$F$6<>"",'Your debts'!$F$13<'Your debts'!$F$6),AQ18,0)+IF(AND('Your debts'!$F$14<>"",'Your debts'!$F$6<>"",'Your debts'!$F$14<'Your debts'!$F$6),AV18,0)+IF(AND('Your debts'!$F$15<>"",'Your debts'!$F$6<>"",'Your debts'!$F$15<'Your debts'!$F$6),BA18,0))))) | J18: =H18-I18 | K18: =IF(O17<=0,0,ROUND(O17*(1+'Your debts'!$D$7/1200),2)) | L18: =IF(K18<=0,0,MIN('Your debts'!$E$7,K18)) | M18: =K18-L18 | N18: =IF('Your debts'!$F$7="",0,MIN(M18,MAX(0,MAX(0,'Your debts'!$C$19-(G18+L18+Q18+V18+AA18+AF18+AK18+AP18+AU18+AZ18))-(IF(AND('Your debts'!$F$6<>"",'Your debts'!$F$7<>"",'Your debts'!$F$6<'Your debts'!$F$7),H18,0)+IF(AND('Your debts'!$F$8<>"",'Your debts'!$F$7<>"",'Your debts'!$F$8<'Your debts'!$F$7),R18,0)+IF(AND('Your debts'!$F$9<>"",'Your debts'!$F$7<>"",'Your debts'!$F$9<'Your debts'!$F$7),W18,0)+IF(AND('Your debts'!$F$10<>"",'Your debts'!$F$7<>"",'Your debts'!$F$10<'Your debts'!$F$7),AB18,0)+IF(AND('Your debts'!$F$11<>"",'Your debts'!$F$7<>"",'Your debts'!$F$11<'Your debts'!$F$7),AG18,0)+IF(AND('Your debts'!$F$12<>"",'Your debts'!$F$7<>"",'Your debts'!$F$12<'Your debts'!$F$7),AL18,0)+IF(AND('Your debts'!$F$13<>"",'Your debts'!$F$7<>"",'Your debts'!$F$13<'Your debts'!$F$7),AQ18,0)+IF(AND('Your debts'!$F$14<>"",'Your debts'!$F$7<>"",'Your debts'!$F$14<'Your debts'!$F$7),AV18,0)+IF(AND('Your debts'!$F$15<>"",'Your debts'!$F$7<>"",'Your debts'!$F$15<'Your debts'!$F$7),BA18,0))))) | O18: =M18-N18 | P18: =IF(T17<=0,0,ROUND(T17*(1+'Your debts'!$D$8/1200),2)) | Q18: =IF(P18<=0,0,MIN('Your debts'!$E$8,P18)) | R18: =P18-Q18 | S18: =IF('Your debts'!$F$8="",0,MIN(R18,MAX(0,MAX(0,'Your debts'!$C$19-(G18+L18+Q18+V18+AA18+AF18+AK18+AP18+AU18+AZ18))-(IF(AND('Your debts'!$F$6<>"",'Your debts'!$F$8<>"",'Your debts'!$F$6<'Your debts'!$F$8),H18,0)+IF(AND('Your debts'!$F$7<>"",'Your debts'!$F$8<>"",'Your debts'!$F$7<'Your debts'!$F$8),M18,0)+IF(AND('Your debts'!$F$9<>"",'Your debts'!$F$8<>"",'Your debts'!$F$9<'Your debts'!$F$8),W18,0)+IF(AND('Your debts'!$F$10<>"",'Your debts'!$F$8<>"",'Your debts'!$F$10<'Your debts'!$F$8),AB18,0)+IF(AND('Your debts'!$F$11<>"",'Your debts'!$F$8<>"",'Your debts'!$F$11<'Your debts'!$F$8),AG18,0)+IF(AND('Your debts'!$F$12<>"",'Your debts'!$F$8<>"",'Your debts'!$F$12<'Your debts'!$F$8),AL18,0)+IF(AND('Your debts'!$F$13<>"",'Your debts'!$F$8<>"",'Your debts'!$F$13<'Your debts'!$F$8),AQ18,0)+IF(AND('Your debts'!$F$14<>"",'Your debts'!$F$8<>"",'Your debts'!$F$14<'Your debts'!$F$8),AV18,0)+IF(AND('Your debts'!$F$15<>"",'Your debts'!$F$8<>"",'Your debts'!$F$15<'Your debts'!$F$8),BA18,0))))) | T18: =R18-S18 | U18: =IF(Y17<=0,0,ROUND(Y17*(1+'Your debts'!$D$9/1200),2)) | V18: =IF(U18<=0,0,MIN('Your debts'!$E$9,U18)) | W18: =U18-V18 | X18: =IF('Your debts'!$F$9="",0,MIN(W18,MAX(0,MAX(0,'Your debts'!$C$19-(G18+L18+Q18+V18+AA18+AF18+AK18+AP18+AU18+AZ18))-(IF(AND('Your debts'!$F$6<>"",'Your debts'!$F$9<>"",'Your debts'!$F$6<'Your debts'!$F$9),H18,0)+IF(AND('Your debts'!$F$7<>"",'Your debts'!$F$9<>"",'Your debts'!$F$7<'Your debts'!$F$9),M18,0)+IF(AND('Your debts'!$F$8<>"",'Your debts'!$F$9<>"",'Your debts'!$F$8<'Your debts'!$F$9),R18,0)+IF(AND('Your debts'!$F$10<>"",'Your debts'!$F$9<>"",'Your debts'!$F$10<'Your debts'!$F$9),AB18,0)+IF(AND('Your debts'!$F$11<>"",'Your debts'!$F$9<>"",'Your debts'!$F$11<'Your debts'!$F$9),AG18,0)+IF(AND('Your debts'!$F$12<>"",'Your debts'!$F$9<>"",'Your debts'!$F$12<'Your debts'!$F$9),AL18,0)+IF(AND('Your debts'!$F$13<>"",'Your debts'!$F$9<>"",'Your debts'!$F$13<'Your debts'!$F$9),AQ18,0)+IF(AND('Your debts'!$F$14<>"",'Your debts'!$F$9<>"",'Your debts'!$F$14<'Your debts'!$F$9),AV18,0)+IF(AND('Your debts'!$F$15<>"",'Your debts'!$F$9<>"",'Your debts'!$F$15<'Your debts'!$F$9),BA18,0))))) | Y18: =W18-X18 | Z18: =IF(AD17<=0,0,ROUND(AD17*(1+'Your debts'!$D$10/1200),2)) | AA18: =IF(Z18<=0,0,MIN('Your debts'!$E$10,Z18)) | AB18: =Z18-AA18 | AC18: =IF('Your debts'!$F$10="",0,MIN(AB18,MAX(0,MAX(0,'Your debts'!$C$19-(G18+L18+Q18+V18+AA18+AF18+AK18+AP18+AU18+AZ18))-(IF(AND('Your debts'!$F$6<>"",'Your debts'!$F$10<>"",'Your debts'!$F$6<'Your debts'!$F$10),H18,0)+IF(AND('Your debts'!$F$7<>"",'Your debts'!$F$10<>"",'Your debts'!$F$7<'Your debts'!$F$10),M18,0)+IF(AND('Your debts'!$F$8<>"",'Your debts'!$F$10<>"",'Your debts'!$F$8<'Your debts'!$F$10),R18,0)+IF(AND('Your debts'!$F$9<>"",'Your debts'!$F$10<>"",'Your debts'!$F$9<'Your debts'!$F$10),W18,0)+IF(AND('Your debts'!$F$11<>"",'Your debts'!$F$10<>"",'Your debts'!$F$11<'Your debts'!$F$10),AG18,0)+IF(AND('Your debts'!$F$12<>"",'Your debts'!$F$10<>"",'Your debts'!$F$12<'Your debts'!$F$10),AL18,0)+IF(AND('Your debts'!$F$13<>"",'Your debts'!$F$10<>"",'Your debts'!$F$13<'Your debts'!$F$10),AQ18,0)+IF(AND('Your debts'!$F$14<>"",'Your debts'!$F$10<>"",'Your debts'!$F$14<'Your debts'!$F$10),AV18,0)+IF(AND('Your debts'!$F$15<>"",'Your debts'!$F$10<>"",'Your debts'!$F$15<'Your debts'!$F$10),BA18,0))))) | AD18: =AB18-AC18 | AE18: =IF(AI17<=0,0,ROUND(AI17*(1+'Your debts'!$D$11/1200),2)) | AF18: =IF(AE18<=0,0,MIN('Your debts'!$E$11,AE18)) | AG18: =AE18-AF18 | AH18: =IF('Your debts'!$F$11="",0,MIN(AG18,MAX(0,MAX(0,'Your debts'!$C$19-(G18+L18+Q18+V18+AA18+AF18+AK18+AP18+AU18+AZ18))-(IF(AND('Your debts'!$F$6<>"",'Your debts'!$F$11<>"",'Your debts'!$F$6<'Your debts'!$F$11),H18,0)+IF(AND('Your debts'!$F$7<>"",'Your debts'!$F$11<>"",'Your debts'!$F$7<'Your debts'!$F$11),M18,0)+IF(AND('Your debts'!$F$8<>"",'Your debts'!$F$11<>"",'Your debts'!$F$8<'Your debts'!$F$11),R18,0)+IF(AND('Your debts'!$F$9<>"",'Your debts'!$F$11<>"",'Your debts'!$F$9<'Your debts'!$F$11),W18,0)+IF(AND('Your debts'!$F$10<>"",'Your debts'!$F$11<>"",'Your debts'!$F$10<'Your debts'!$F$11),AB18,0)+IF(AND('Your debts'!$F$12<>"",'Your debts'!$F$11<>"",'Your debts'!$F$12<'Your debts'!$F$11),AL18,0)+IF(AND('Your debts'!$F$13<>"",'Your debts'!$F$11<>"",'Your debts'!$F$13<'Your debts'!$F$11),AQ18,0)+IF(AND('Your debts'!$F$14<>"",'Your debts'!$F$11<>"",'Your debts'!$F$14<'Your debts'!$F$11),AV18,0)+IF(AND('Your debts'!$F$15<>"",'Your debts'!$F$11<>"",'Your debts'!$F$15<'Your debts'!$F$11),BA18,0))))) | AI18: =AG18-AH18 | AJ18: =IF(AN17<=0,0,ROUND(AN17*(1+'Your debts'!$D$12/1200),2)) | AK18: =IF(AJ18<=0,0,MIN('Your debts'!$E$12,AJ18)) | AL18: =AJ18-AK18 | AM18: =IF('Your debts'!$F$12="",0,MIN(AL18,MAX(0,MAX(0,'Your debts'!$C$19-(G18+L18+Q18+V18+AA18+AF18+AK18+AP18+AU18+AZ18))-(IF(AND('Your debts'!$F$6<>"",'Your debts'!$F$12<>"",'Your debts'!$F$6<'Your debts'!$F$12),H18,0)+IF(AND('Your debts'!$F$7<>"",'Your debts'!$F$12<>"",'Your debts'!$F$7<'Your debts'!$F$12),M18,0)+IF(AND('Your debts'!$F$8<>"",'Your debts'!$F$12<>"",'Your debts'!$F$8<'Your debts'!$F$12),R18,0)+IF(AND('Your debts'!$F$9<>"",'Your debts'!$F$12<>"",'Your debts'!$F$9<'Your debts'!$F$12),W18,0)+IF(AND('Your debts'!$F$10<>"",'Your debts'!$F$12<>"",'Your debts'!$F$10<'Your debts'!$F$12),AB18,0)+IF(AND('Your debts'!$F$11<>"",'Your debts'!$F$12<>"",'Your debts'!$F$11<'Your debts'!$F$12),AG18,0)+IF(AND('Your debts'!$F$13<>"",'Your debts'!$F$12<>"",'Your debts'!$F$13<'Your debts'!$F$12),AQ18,0)+IF(AND('Your debts'!$F$14<>"",'Your debts'!$F$12<>"",'Your debts'!$F$14<'Your debts'!$F$12),AV18,0)+IF(AND('Your debts'!$F$15<>"",'Your debts'!$F$12<>"",'Your debts'!$F$15<'Your debts'!$F$12),BA18,0))))) | AN18: =AL18-AM18 | AO18: =IF(AS17<=0,0,ROUND(AS17*(1+'Your debts'!$D$13/1200),2)) | AP18: =IF(AO18<=0,0,MIN('Your debts'!$E$13,AO18)) | AQ18: =AO18-AP18 | AR18: =IF('Your debts'!$F$13="",0,MIN(AQ18,MAX(0,MAX(0,'Your debts'!$C$19-(G18+L18+Q18+V18+AA18+AF18+AK18+AP18+AU18+AZ18))-(IF(AND('Your debts'!$F$6<>"",'Your debts'!$F$13<>"",'Your debts'!$F$6<'Your debts'!$F$13),H18,0)+IF(AND('Your debts'!$F$7<>"",'Your debts'!$F$13<>"",'Your debts'!$F$7<'Your debts'!$F$13),M18,0)+IF(AND('Your debts'!$F$8<>"",'Your debts'!$F$13<>"",'Your debts'!$F$8<'Your debts'!$F$13),R18,0)+IF(AND('Your debts'!$F$9<>"",'Your debts'!$F$13<>"",'Your debts'!$F$9<'Your debts'!$F$13),W18,0)+IF(AND('Your debts'!$F$10<>"",'Your debts'!$F$13<>"",'Your debts'!$F$10<'Your debts'!$F$13),AB18,0)+IF(AND('Your debts'!$F$11<>"",'Your debts'!$F$13<>"",'Your debts'!$F$11<'Your debts'!$F$13),AG18,0)+IF(AND('Your debts'!$F$12<>"",'Your debts'!$F$13<>"",'Your debts'!$F$12<'Your debts'!$F$13),AL18,0)+IF(AND('Your debts'!$F$14<>"",'Your debts'!$F$13<>"",'Your debts'!$F$14<'Your debts'!$F$13),AV18,0)+IF(AND('Your debts'!$F$15<>"",'Your debts'!$F$13<>"",'Your debts'!$F$15<'Your debts'!$F$13),BA18,0))))) | AS18: =AQ18-AR18 | AT18: =IF(AX17<=0,0,ROUND(AX17*(1+'Your debts'!$D$14/1200),2)) | AU18: =IF(AT18<=0,0,MIN('Your debts'!$E$14,AT18)) | AV18: =AT18-AU18 | AW18: =IF('Your debts'!$F$14="",0,MIN(AV18,MAX(0,MAX(0,'Your debts'!$C$19-(G18+L18+Q18+V18+AA18+AF18+AK18+AP18+AU18+AZ18))-(IF(AND('Your debts'!$F$6<>"",'Your debts'!$F$14<>"",'Your debts'!$F$6<'Your debts'!$F$14),H18,0)+IF(AND('Your debts'!$F$7<>"",'Your debts'!$F$14<>"",'Your debts'!$F$7<'Your debts'!$F$14),M18,0)+IF(AND('Your debts'!$F$8<>"",'Your debts'!$F$14<>"",'Your debts'!$F$8<'Your debts'!$F$14),R18,0)+IF(AND('Your debts'!$F$9<>"",'Your debts'!$F$14<>"",'Your debts'!$F$9<'Your debts'!$F$14),W18,0)+IF(AND('Your debts'!$F$10<>"",'Your debts'!$F$14<>"",'Your debts'!$F$10<'Your debts'!$F$14),AB18,0)+IF(AND('Your debts'!$F$11<>"",'Your debts'!$F$14<>"",'Your debts'!$F$11<'Your debts'!$F$14),AG18,0)+IF(AND('Your debts'!$F$12<>"",'Your debts'!$F$14<>"",'Your debts'!$F$12<'Your debts'!$F$14),AL18,0)+IF(AND('Your debts'!$F$13<>"",'Your debts'!$F$14<>"",'Your debts'!$F$13<'Your debts'!$F$14),AQ18,0)+IF(AND('Your debts'!$F$15<>"",'Your debts'!$F$14<>"",'Your debts'!$F$15<'Your debts'!$F$14),BA18,0))))) | AX18: =AV18-AW18 | AY18: =IF(BC17<=0,0,ROUND(BC17*(1+'Your debts'!$D$15/1200),2)) | AZ18: =IF(AY18<=0,0,MIN('Your debts'!$E$15,AY18)) | BA18: =AY18-AZ18 | BB18: =IF('Your debts'!$F$15="",0,MIN(BA18,MAX(0,MAX(0,'Your debts'!$C$19-(G18+L18+Q18+V18+AA18+AF18+AK18+AP18+AU18+AZ18))-(IF(AND('Your debts'!$F$6<>"",'Your debts'!$F$15<>"",'Your debts'!$F$6<'Your debts'!$F$15),H18,0)+IF(AND('Your debts'!$F$7<>"",'Your debts'!$F$15<>"",'Your debts'!$F$7<'Your debts'!$F$15),M18,0)+IF(AND('Your debts'!$F$8<>"",'Your debts'!$F$15<>"",'Your debts'!$F$8<'Your debts'!$F$15),R18,0)+IF(AND('Your debts'!$F$9<>"",'Your debts'!$F$15<>"",'Your debts'!$F$9<'Your debts'!$F$15),W18,0)+IF(AND('Your debts'!$F$10<>"",'Your debts'!$F$15<>"",'Your debts'!$F$10<'Your debts'!$F$15),AB18,0)+IF(AND('Your debts'!$F$11<>"",'Your debts'!$F$15<>"",'Your debts'!$F$11<'Your debts'!$F$15),AG18,0)+IF(AND('Your debts'!$F$12<>"",'Your debts'!$F$15<>"",'Your debts'!$F$12<'Your debts'!$F$15),AL18,0)+IF(AND('Your debts'!$F$13<>"",'Your debts'!$F$15<>"",'Your debts'!$F$13<'Your debts'!$F$15),AQ18,0)+IF(AND('Your debts'!$F$14<>"",'Your debts'!$F$15<>"",'Your debts'!$F$14<'Your debts'!$F$15),AV18,0))))) | BC18: =BA18-BB18
